Workbook
Name Hidden_13: Hidden_1!$A$1:$A$11
Name Hidden_211: Hidden_2!$A$1:$A$2

Sheet Reporte de Formatos
A1: 45824
A2: TÍTULO | D2: NOMBRE CORTO | G2: DESCRIPCIÓN
A3: Remuneraciones brutas y netas de todas las personas servidoras públicas de base y de confianza | D3: LTAIPEBC-81-F-VIIIA | G3: La información relativa a la remuneración mensual bruta y neta de conformidad con el tabulador de sueldos y salarios aplicable a cada sujeto obligado, así como todos los conceptos que sean adicionales y distintos a las remuneraciones, especificando la periodicidad con que se otorga cada uno de éstos (quincenal, mensual, semestral, anual, por única ocasión, etcétera)
A4: 1 | B4: 4 | C4: 4 | D4: 9 | E4: 1 | F4: 2 | G4: 2 | H4: 2 | I4: 1 | J4: 1 | K4: 1 | L4: 9 | M4: 6 | N4: 1 | O4: 6 | P4: 1 | Q4: 10 | R4: 10 | S4: 10 | T4: 10 | U4: 10 | V4: 10 | W4: 10 | X4: 10 | Y4: 10 | Z4: 10 | AA4: 10 | AB4: 10 | AC4: 10 | AD4: 2 | AE4: 13 | AF4: 14
A5: 379981 | B5: 379993 | C5: 379973 | D5: 379994 | E5: 379995 | F5: 379976 | G5: 379982 | H5: 379983 | I5: 379984 | J5: 379977 | K5: 379974 | L5: 570022 | M5: 379996 | N5: 379997 | O5: 379986 | P5: 379975 | Q5: 380000 | R5: 379987 | S5: 380001 | T5: 379971 | U5: 379991 | V5: 379978 | W5: 379988 | X5: 379979 | Y5: 379980 | Z5: 379998 | AA5: 380002 | AB5: 379999 | AC5: 380003 | AD5: 379989 | AE5: 379992 | AF5: 379972
A6: Tabla Campos
A7: Ejercicio | B7: Fecha de inicio del periodo que se informa | C7: Fecha de término del periodo que se informa | D7: Tipo de integrante del sujeto obligado (catálogo) | E7: Clave o nivel del puesto | F7: Denominación o descripción del puesto (Redactados con perspectiva de género) | G7: Denominación del cargo (de conformidad con el nombramiento otorgado) | H7: Área de adscripción | I7: Nombre (s) | J7: Primer apellido | K7: Segundo apellido | L7: ESTE CRITERIO APLICA A PARTIR DEL 01/01/2023 -> Sexo (catálogo ) | M7: Monto de la remuneración mensual bruta, de conformidad al Tabulador de sueldos y salarios que corresponda | N7: Tipo de moneda de la remuneración mensual bruta | O7: Monto de la remuneración mensual neta, de conformidad al Tabulador de sueldos y salarios que corresponda | P7: Tipo de moneda de la remuneración mensual neta | Q7: Percepciones adicionales en dinero, Monto bruto y neto, tipo de moneda y su periodicidad Tabla_380000 | R7: Percepciones adicionales en especie y su periodicidad Tabla_379987 | S7: Ingresos, monto bruto y neto, tipo de moneda y su periodicidad Tabla_380001 | T7: Sistemas de compensación, monto bruto y neto, tipo de moneda y su periodicidad Tabla_379971 | U7: Gratificaciones, monto bruto y neto, tipo de moneda y su periodicidad Tabla_379991 | V7: Primas, monto bruto y neto, tipo de moneda y su periodicidad Tabla_379978 | W7: Comisiones, monto bruto y neto, tipo de moneda y su periodicidad Tabla_379988 | X7: Dietas, monto bruto y neto, tipo de moneda y su periodicidad Tabla_379979 | Y7: Bonos, monto bruto y neto, tipo de moneda y su periodicidad Tabla_379980 | Z7: Estímulos, monto bruto y neto, tipo de moneda y su periodicidad Tabla_379998 | AA7: Apoyos económicos, monto bruto y neto, tipo de moneda y su periodicidad Tabla_380002 | AB7: Prestaciones económicas, monto bruto y neto, tipo de moneda y su periodicidad Tabla_379999 | AC7: Prestaciones en especie y su periodicidad Tabla_380003 | AD7: Área(s) responsable(s) que genera(n), posee(n), publica(n) y actualizan la información | AE7: Fecha de Actualización | AF7: Nota
A8: 2025 | B8: 45658 | C8: 45747 | D8: Personal de confianza | E8: Dirección General | F8: Dirección de área | G8: Dirección de área | H8: Dirección General | I8: Francisco Xavier | J8: Carrasco | K8: Beltran | L8: Hombre | M8: 36000 | N8: Pesos Mexicanos | O8: =+M8-6124.49+672+672 -> 31219.51 | P8: Pesos Mexicanos | Q8: 1 | R8: 1 | S8: 1 | T8: 1 | U8: 1 | V8: 1 | W8: 1 | X8: 1 | Y8: 1 | Z8: 1 | AA8: 1 | AB8: 1 | AC8: 1 | AD8: Instituto Municipal del Deporte de Playas de Rosarito (IMDER) | AE8: 45747 | AF8: Primer Trimestre, Se Registra Nomina No.6, 10 AL 23 marzo 2025
A9: 2025 | B9: 45658 | C9: 45747 | D9: Personal de confianza | E9: Encargado(a) | F9: Encargado(a) B | G9: Comunicación Social y Mercadotenia | H9: Dirección General | I9: Brian David | J9: Garrido | K9: Carrion | L9: Hombre | M9: 13900 | N9: Pesos Mexicanos | O9: =+M9-1355.65-259.47-259.47 -> 12025.41 | P9: Pesos Mexicanos | Q9: 1 | R9: 1 | S9: 1 | T9: 1 | U9: 2 | V9: 2 | W9: 1 | X9: 1 | Y9: 1 | Z9: 1 | AA9: 1 | AB9: 1 | AC9: 1 | AD9: Instituto Municipal del Deporte de Playas de Rosarito (IMDER) | AE9: 45747 | AF9: Primer Trimestre, Se Registra Nomina No.6, 10 AL 23 marzo 2025
A10: 2025 | B10: 45658 | C10: 45747 | D10: Personal de confianza | E10: Secretario(a) | F10: Secretaria Ejecutivo B | G10: Asistente de Dirección | H10: Dirección General | I10: Rodolfo | J10: lopez | K10: Michel | L10: Hombre | M10: 13900 | N10: Pesos Mexicanos | O10: =+M10-1355.65-259.47-259.47 -> 12025.41 | P10: Pesos Mexicanos | Q10: 1 | R10: 1 | S10: 1 | T10: 1 | U10: 3 | V10: 3 | W10: 1 | X10: 1 | Y10: 1 | Z10: 1 | AA10: 1 | AB10: 1 | AC10: 1 | AD10: Instituto Municipal del Deporte de Playas de Rosarito (IMDER) | AE10: 45747 | AF10: Primer Trimestre, Se Registra Nomina No.6, 10 AL 23 marzo 2025
A11: 2025 | B11: 45658 | C11: 45747 | D11: Personal de confianza | E11: Coordinaciones | F11: Coordinación de Contabilidad y Transparencia | G11: Coordinación de Contabilidad y Transparencia | H11: Administración | I11: Norma Claudia | J11: Lopez | K11: Ramirez | L11: Mujer | M11: 19500 | N11: Pesos Mexicanos | O11: =+M11-2497.19-364-364 -> 16274.81 | P11: Pesos Mexicanos | Q11: 1 | R11: 1 | S11: 1 | T11: 1 | U11: 4 | V11: 4 | W11: 1 | X11: 1 | Y11: 1 | Z11: 1 | AA11: 1 | AB11: 1 | AC11: 1 | AD11: Instituto Municipal del Deporte de Playas de Rosarito (IMDER) | AE11: 45747 | AF11: Primer Trimestre, Se Registra Nomina No.6, 10 AL 23 marzo 2025
A12: 2025 | B12: 45658 | C12: 45747 | D12: Personal de confianza | E12: Coordinaciones | F12: Coordinación de Ingresos y Egresos | G12: Coordinación de Ingresos y Egresos | H12: Administración | I12: Guadalupe Elizabeth | J12: Cortez | K12: Martinez | L12: Mujer | M12: 19500 | N12: Pesos Mexicanos | O12: =+M12-2497.19-364-364 -> 16274.81 | P12: Pesos Mexicanos | Q12: 1 | R12: 1 | S12: 1 | T12: 1 | U12: 5 | V12: 5 | W12: 1 | X12: 1 | Y12: 1 | Z12: 1 | AA12: 1 | AB12: 1 | AC12: 1 | AD12: Instituto Municipal del Deporte de Playas de Rosarito (IMDER) | AE12: 45747 | AF12: Primer Trimestre, Se Registra Nomina No.6, 10 AL 23 marzo 2025
A13: 2025 | B13: 45658 | C13: 45747 | D13: Personal de confianza | E13: Jefatura | F13: Jefa de Recursos Humanos | G13: Jefa de Recursos Humanos | H13: Administración | I13: Iris del Carmen | J13: Contreras | K13: Torres | L13: Mujer | M13: 17500 | N13: Pesos Mexicanos | O13: =+M13-2069.99-629.67-326.67 -> 14473.67 | P13: Pesos Mexicanos | Q13: 1 | R13: 1 | S13: 1 | T13: 1 | U13: 6 | V13: 6 | W13: 1 | X13: 1 | Y13: 1 | Z13: 1 | AA13: 1 | AB13: 1 | AC13: 1 | AD13: Instituto Municipal del Deporte de Playas de Rosarito (IMDER) | AE13: 45747 | AF13: Primer Trimestre, Se Registra Nomina No.6, 10 AL 23 marzo 2025
A14: 2025 | B14: 45658 | C14: 45747 | D14: Personal de confianza | E14: Jefatura | F14: Jefa Admninistación de Unidades | G14: Jefa Admninistación de Unidades | H14: Administración | I14: Grecia Juliette | J14: Rivera | K14: Peraza | L14: Mujer | M14: 17500 | N14: Pesos Mexicanos | O14: =+M14-2069.99-629.67-326.67 -> 14473.67 | P14: Pesos Mexicanos | Q14: 1 | R14: 1 | S14: 1 | T14: 1 | U14: 7 | V14: 7 | W14: 1 | X14: 1 | Y14: 1 | Z14: 1 | AA14: 1 | AB14: 1 | AC14: 1 | AD14: Instituto Municipal del Deporte de Playas de Rosarito (IMDER) | AE14: 45747 | AF14: Primer Trimestre, Se Registra Nomina No.6, 10 AL 23 marzo 2025
A15: 2025 | B15: 45658 | C15: 45747 | D15: Personal de confianza | E15: Cajera (o) | F15: Cajera Estacionamiento | G15: Cajera Estacionamiento | H15: Administración | I15: Sandra Isabel | J15: Santillan | K15: Iribe | L15: Mujer | M15: 13000 | N15: Pesos Mexicanos | O15: =+M15-1194.37-242.67-242.67 -> 11320.29 | P15: Pesos Mexicanos | Q15: 1 | R15: 1 | S15: 1 | T15: 1 | U15: 8 | V15: 8 | W15: 1 | X15: 1 | Y15: 1 | Z15: 1 | AA15: 1 | AB15: 1 | AC15: 1 | AD15: Instituto Municipal del Deporte de Playas de Rosarito (IMDER) | AE15: 45747 | AF15: Primer Trimestre, Se Registra Nomina No.6, 10 AL 23 marzo 2025
A16: 2025 | B16: 45658 | C16: 45747 | D16: Personal de confianza | E16: Cajera (o) | F16: Cajera Estacionamiento | G16: Cajera Estacionamiento | H16: Administración | I16: Georgina | J16: Pedroza | K16: Gonzalez | L16: Mujer | M16: 13000 | N16: Pesos Mexicanos | O16: =+M16-1194.37-242.67-242.67 -> 11320.29 | P16: Pesos Mexicanos | Q16: 1 | R16: 1 | S16: 1 | T16: 1 | U16: 9 | V16: 9 | W16: 1 | X16: 1 | Y16: 1 | Z16: 1 | AA16: 1 | AB16: 1 | AC16: 1 | AD16: Instituto Municipal del Deporte de Playas de Rosarito (IMDER) | AE16: 45747 | AF16: Primer Trimestre, Se Registra Nomina No.6, 10 AL 23 marzo 2025
A17: 2025 | B17: 45658 | C17: 45747 | D17: Personal de confianza | E17: Cajera (o) | F17: Cajera Gimnacio | G17: Cajera (o) Gimnacio | H17: Administración | I17: Karina | J17: Ortega | K17: Jimenez | L17: Mujer | M17: 13000 | N17: Pesos Mexicanos | O17: =+M17-1194.37-242.67-242.67 -> 11320.29 | P17: Pesos Mexicanos | Q17: 1 | R17: 1 | S17: 1 | T17: 1 | U17: 10 | V17: 10 | W17: 1 | X17: 1 | Y17: 1 | Z17: 1 | AA17: 1 | AB17: 1 | AC17: 1 | AD17: Instituto Municipal del Deporte de Playas de Rosarito (IMDER) | AE17: 45747 | AF17: Primer Trimestre, Se Registra Nomina No.6, 10 AL 23 marzo 2025
A18: 2025 | B18: 45658 | C18: 45747 | D18: Personal de confianza | E18: Cajera (o) | F18: Cajera Gimnacio | G18: Cajera Gimnacio | H18: Administración | I18: Aleyda Lizeth | J18: Medero | K18: Carmona | L18: Mujer | M18: 13000 | N18: Pesos Mexicanos | O18: =+M18-1194.37-242.67-242.67 -> 11320.29 | P18: Pesos Mexicanos | Q18: 1 | R18: 1 | S18: 1 | T18: 1 | U18: 11 | V18: 11 | W18: 1 | X18: 1 | Y18: 1 | Z18: 1 | AA18: 1 | AB18: 1 | AC18: 1 | AD18: Instituto Municipal del Deporte de Playas de Rosarito (IMDER) | AE18: 45747 | AF18: Primer Trimestre, Se Registra Nomina No.6, 10 AL 23 marzo 2025
A19: 2025 | B19: 45658 | C19: 45747 | D19: Personal de confianza | E19: Cajera (o) | F19: Cajera (o) | G19: Cajera | H19: Administración | I19: Sergio Francisco | J19: D. Vilac | K19: Garcia | L19: Hombre | M19: 13000 | N19: Pesos Mexicanos | O19: =+M19-1194.37-242.67-242.67 -> 11320.29 | P19: Pesos Mexicanos | Q19: 1 | R19: 1 | S19: 1 | T19: 1 | U19: 12 | V19: 12 | W19: 1 | X19: 1 | Y19: 1 | Z19: 1 | AA19: 1 | AB19: 1 | AC19: 1 | AD19: Instituto Municipal del Deporte de Playas de Rosarito (IMDER) | AE19: 45747 | AF19: Primer Trimestre, Se Registra Nomina No.6, 10 AL 23 marzo 2025
A20: 2025 | B20: 45658 | C20: 45747 | D20: Personal de confianza | E20: subdirector B | F20: Subdirección Técnica | G20: Subdirección Técnica | H20: Promoción Deportiva | I20: Rodolfo | J20: Pineda | K20: Lopez | L20: Hombre | M20: 25700 | N20: Pesos Mexicanos | O20: =+M20-3821.51-479.73-479.73 -> 20919.03 | P20: Pesos Mexicanos | Q20: 1 | R20: 1 | S20: 1 | T20: 1 | U20: 13 | V20: 13 | W20: 1 | X20: 1 | Y20: 1 | Z20: 1 | AA20: 1 | AB20: 1 | AC20: 1 | AD20: Instituto Municipal del Deporte de Playas de Rosarito (IMDER) | AE20: 45747 | AF20: Primer Trimestre, Se Registra Nomina No.6, 10 AL 23 marzo 2025
A21: 2025 | B21: 45658 | C21: 45747 | D21: Personal de confianza | E21: Encargado(a) | F21: Encargado(a) deporte Adaptado | G21: Encargado deporte Adaptado | H21: Promoción Deportiva | I21: Guillermo Efrain | J21: Salceda | K21: Ibarra | L21: Hombre | M21: 13900 | N21: Pesos Mexicanos | O21: =+M21-1355.65-259.47-259.47 -> 12025.41 | P21: Pesos Mexicanos | Q21: 1 | R21: 1 | S21: 1 | T21: 1 | U21: 14 | V21: 14 | W21: 1 | X21: 1 | Y21: 1 | Z21: 1 | AA21: 1 | AB21: 1 | AC21: 1 | AD21: Instituto Municipal del Deporte de Playas de Rosarito (IMDER) | AE21: 45747 | AF21: Primer Trimestre, Se Registra Nomina No.6, 10 AL 23 marzo 2025
A22: 2025 | B22: 45658 | C22: 45747 | D22: Personal de confianza | E22: Encargado(a) | F22: Encargado(a) deporte Escolar y Asociado | G22: Encargado deporte Escolar | H22: Promoción Deportiva | I22: Osman Edgardo | J22: Perez | K22: Quiñonez | L22: Hombre | M22: 13900 | N22: Pesos Mexicanos | O22: =+M22-1355.65-259.47-259.47 -> 12025.41 | P22: Pesos Mexicanos | Q22: 1 | R22: 1 | S22: 1 | T22: 1 | U22: 15 | V22: 15 | W22: 1 | X22: 1 | Y22: 1 | Z22: 1 | AA22: 1 | AB22: 1 | AC22: 1 | AD22: Instituto Municipal del Deporte de Playas de Rosarito (IMDER) | AE22: 45747 | AF22: Primer Trimestre, Se Registra Nomina No.6, 10 AL 23 marzo 2025
A23: 2025 | B23: 45658 | C23: 45747 | D23: Personal de confianza | E23: Encargado(a) | F23: Encargado(a) deporte Popular | G23: Encargado deporte Popular | H23: Promoción Deportiva | I23: Tania Patricia | J23: Camargo | K23: Martinez | L23: Mujer | M23: 13900 | N23: Pesos Mexicanos | O23: =+M23-1355.65-259.47-259.47 -> 12025.41 | P23: Pesos Mexicanos | Q23: 1 | R23: 1 | S23: 1 | T23: 1 | U23: 16 | V23: 16 | W23: 1 | X23: 1 | Y23: 1 | Z23: 1 | AA23: 1 | AB23: 1 | AC23: 1 | AD23: Instituto Municipal del Deporte de Playas de Rosarito (IMDER) | AE23: 45747 | AF23: Primer Trimestre, Se Registra Nomina No.6, 10 AL 23 marzo 2025
A24: 2025 | B24: 45658 | C24: 45747 | D24: Personal de confianza | E24: subdirector B | F24: Subdirección Operativa | G24: Subdirección Operativa | H24: Promoción Deportiva | I24: Felipe de Jesus | J24: Jacobo | K24: Arellano | L24: Hombre | M24: 25700 | N24: Pesos Mexicanos | O24: =+M24-3821.51-479.73-479.73 -> 20919.03 | P24: Pesos Mexicanos | Q24: 1 | R24: 1 | S24: 1 | T24: 1 | U24: 17 | V24: 17 | W24: 1 | X24: 1 | Y24: 1 | Z24: 1 | AA24: 1 | AB24: 1 | AC24: 1 | AD24: Instituto Municipal del Deporte de Playas de Rosarito (IMDER) | AE24: 45747 | AF24: Primer Trimestre, Se Registra Nomina No.6, 10 AL 23 marzo 2025
A25: 2025 | B25: 45658 | C25: 45747 | D25: Personal de confianza | E25: Promotor Deportivo | F25: Promotor(a) Deportivo | G25: Promotor Deportivo | H25: Promoción Deportiva | I25: Kevin Jesus | J25: Cecilio | K25: Bvargas | L25: Hombre | M25: 13000 | N25: Pesos Mexicanos | O25: =+M25-1194.37-242.67-242.67 -> 11320.29 | P25: Pesos Mexicanos | Q25: 1 | R25: 1 | S25: 1 | T25: 1 | U25: 18 | V25: 18 | W25: 1 | X25: 1 | Y25: 1 | Z25: 1 | AA25: 1 | AB25: 1 | AC25: 1 | AD25: Instituto Municipal del Deporte de Playas de Rosarito (IMDER) | AE25: 45747 | AF25: Primer Trimestre, Se Registra Nomina No.6, 10 AL 23 marzo 2025
A26: 2025 | B26: 45658 | C26: 45747 | D26: Personal de confianza | E26: Promotor Deportivo | F26: Promotor(a) Deportivo | G26: Promotor Deportivo | H26: Promoción Deportiva | I26: Jesus | J26: Terrazas | K26: Perez | L26: Hombre | M26: 13000 | N26: Pesos Mexicanos | O26: =+M26-1194.37-242.67-242.67 -> 11320.29 | P26: Pesos Mexicanos | Q26: 1 | R26: 1 | S26: 1 | T26: 1 | U26: 19 | V26: 19 | W26: 1 | X26: 1 | Y26: 1 | Z26: 1 | AA26: 1 | AB26: 1 | AC26: 1 | AD26: Instituto Municipal del Deporte de Playas de Rosarito (IMDER) | AE26: 45747 | AF26: Primer Trimestre, Se Registra Nomina No.6, 10 AL 23 marzo 2025
A27: 2025 | B27: 45658 | C27: 45747 | D27: Personal de confianza | E27: Promotor Deportivo | F27: Promotor(a) Deportivo | G27: Promotor Deportivo | H27: Promoción Deportiva | I27: Juan Carlos | J27: Candelario | K27: Hernandez | L27: Hombre | M27: 13000 | N27: Pesos Mexicanos | O27: =+M27-1194.37-242.67-242.67 -> 11320.29 | P27: Pesos Mexicanos | Q27: 1 | R27: 1 | S27: 1 | T27: 1 | U27: 20 | V27: 20 | W27: 1 | X27: 1 | Y27: 1 | Z27: 1 | AA27: 1 | AB27: 1 | AC27: 1 | AD27: Instituto Municipal del Deporte de Playas de Rosarito (IMDER) | AE27: 45747 | AF27: Primer Trimestre, Se Registra Nomina No.6, 10 AL 23 marzo 2025
A28: 2025 | B28: 45658 | C28: 45747 | D28: Personal de confianza | E28: Promotor Deportivo | F28: Promotor(a) Deportivo | G28: Promotor Deportivo | H28: Promoción Deportiva | I28: Estrellita Esmeralda | J28: Cortez | K28: Lopez | L28: Mujer | M28: 13000 | N28: Pesos Mexicanos | O28: =+M28-1194.37-242.67-242.67 -> 11320.29 | P28: Pesos Mexicanos | Q28: 1 | R28: 1 | S28: 1 | T28: 1 | U28: 21 | V28: 21 | W28: 1 | X28: 1 | Y28: 1 | Z28: 1 | AA28: 1 | AB28: 1 | AC28: 1 | AD28: Instituto Municipal del Deporte de Playas de Rosarito (IMDER) | AE28: 45747 | AF28: Primer Trimestre, Se Registra Nomina No.6, 10 AL 23 marzo 2025
A29: 2025 | B29: 45658 | C29: 45747 | D29: Personal de confianza | E29: Promotor Deportivo | F29: Promotor(a) Deportivo | G29: Promotor Deportivo | H29: Promoción Deportiva | I29: Victor Guadalupe | J29: Madrigal | K29: Gutierrez | L29: Hombre | M29: 13000 | N29: Pesos Mexicanos | O29: =+M29-1194.37-242.67-242.67 -> 11320.29 | P29: Pesos Mexicanos | Q29: 1 | R29: 1 | S29: 1 | T29: 1 | U29: 22 | V29: 22 | W29: 1 | X29: 1 | Y29: 1 | Z29: 1 | AA29: 1 | AB29: 1 | AC29: 1 | AD29: Instituto Municipal del Deporte de Playas de Rosarito (IMDER) | AE29: 45747 | AF29: Primer Trimestre, Se Registra Nomina No.6, 10 AL 23 marzo 2025
A30: 2025 | B30: 45658 | C30: 45747 | D30: Personal de confianza | E30: Promotor Deportivo | F30: Promotor(a) Deportivo | G30: Promotor Deportivo | H30: Promoción Deportiva | I30: Osiris Guadalupe | J30: Quiñonez | K30: Arias | L30: Mujer | M30: 13000 | N30: Pesos Mexicanos | O30: =+M30-1194.37-242.67-242.67 -> 11320.29 | P30: Pesos Mexicanos | Q30: 1 | R30: 1 | S30: 1 | T30: 1 | U30: 23 | V30: 23 | W30: 1 | X30: 1 | Y30: 1 | Z30: 1 | AA30: 1 | AB30: 1 | AC30: 1 | AD30: Instituto Municipal del Deporte de Playas de Rosarito (IMDER) | AE30: 45747 | AF30: Primer Trimestre, Se Registra Nomina No.6, 10 AL 23 marzo 2025
A31: 2025 | B31: 45658 | C31: 45747 | D31: Personal de confianza | E31: Jefatura | F31: Jefe de Mantenimiento | G31: Jefe de Mantenimiento | H31: Conservaciones de Unidades | I31: Felipe | J31: Quintana | K31: Ortiz | L31: Hombre | M31: 17500 | N31: Pesos Mexicanos | O31: 14473.67 | P31: Pesos Mexicanos | Q31: 1 | R31: 1 | S31: 1 | T31: 1 | U31: 24 | V31: 24 | W31: 1 | X31: 1 | Y31: 1 | Z31: 1 | AA31: 1 | AB31: 1 | AC31: 1 | AD31: Instituto Municipal del Deporte de Playas de Rosarito (IMDER) | AE31: 45747 | AF31: Primer Trimestre, Se Registra Nomina No.6, 10 AL 23 marzo 2025
A32: 2025 | B32: 45658 | C32: 45747 | D32: Personal de confianza | E32: Tecnico de Mantenimiento | F32: Mantenimiento General | G32: Mantenimiento General | H32: Conservaciones de Unidades | I32: Guadalupe Blas | J32: Esquivel | K32: Sandoval | L32: Hombre | M32: 13000 | N32: Pesos Mexicanos | O32: =+M32-1194.37-242.67-242.67 -> 11320.29 | P32: Pesos Mexicanos | Q32: 1 | R32: 1 | S32: 1 | T32: 1 | U32: 25 | V32: 25 | W32: 1 | X32: 1 | Y32: 1 | Z32: 1 | AA32: 1 | AB32: 1 | AC32: 1 | AD32: Instituto Municipal del Deporte de Playas de Rosarito (IMDER) | AE32: 45747 | AF32: Primer Trimestre, Se Registra Nomina No.6, 10 AL 23 marzo 2025
A33: 2025 | B33: 45658 | C33: 45747 | D33: Personal de confianza | E33: Tecnico de Mantenimiento | F33: Mantenimiento General | G33: Mantenimiento General | H33: Conservaciones de Unidades | I33: Hilda Genoveva | J33: Vindiola | K33: Machado | L33: Mujer | M33: 13000 | N33: Pesos Mexicanos | O33: =+M33-1194.37-242.67-242.67 -> 11320.29 | P33: Pesos Mexicanos | Q33: 1 | R33: 1 | S33: 1 | T33: 1 | U33: 26 | V33: 26 | W33: 1 | X33: 1 | Y33: 1 | Z33: 1 | AA33: 1 | AB33: 1 | AC33: 1 | AD33: Instituto Municipal del Deporte de Playas de Rosarito (IMDER) | AE33: 45747 | AF33: Primer Trimestre, Se Registra Nomina No.6, 10 AL 23 marzo 2025
A34: 2025 | B34: 45658 | C34: 45747 | D34: Personal de confianza | E34: Tecnico de Mantenimiento | F34: Mantenimiento General | G34: Mantenimiento General | H34: Conservaciones de Unidades | I34: Jose Angel | J34: Gomez | K34: Ramirez | L34: Hombre | M34: 13000 | N34: Pesos Mexicanos | O34: =+M34-1194.37-242.67-242.67 -> 11320.29 | P34: Pesos Mexicanos | Q34: 1 | R34: 1 | S34: 1 | T34: 1 | U34: 27 | V34: 27 | W34: 1 | X34: 1 | Y34: 1 | Z34: 1 | AA34: 1 | AB34: 1 | AC34: 1 | AD34: Instituto Municipal del Deporte de Playas de Rosarito (IMDER) | AE34: 45747 | AF34: Primer Trimestre, Se Registra Nomina No.6, 10 AL 23 marzo 2025
A35: 2025 | B35: 45658 | C35: 45747 | D35: Personal de confianza | E35: Tecnico de Mantenimiento | F35: Mantenimiento General | G35: Mantenimiento General | H35: Conservaciones de Unidades | I35: Cristhian Miguel | J35: Rodriguez | K35: Juarez | L35: Hombre | M35: 13000 | N35: Pesos Mexicanos | O35: =+M35-1194.37-242.67-242.67 -> 11320.29 | P35: Pesos Mexicanos | Q35: 1 | R35: 1 | S35: 1 | T35: 1 | U35: 28 | V35: 28 | W35: 1 | X35: 1 | Y35: 1 | Z35: 1 | AA35: 1 | AB35: 1 | AC35: 1 | AD35: Instituto Municipal del Deporte de Playas de Rosarito (IMDER) | AE35: 45747 | AF35: Primer Trimestre, Se Registra Nomina No.6, 10 AL 23 marzo 2025
A36: 2025 | B36: 45658 | C36: 45747 | D36: Personal de confianza | E36: Tecnico de Mantenimiento | F36: Mantenimiento General | G36: Mantenimiento General | H36: Conservaciones de Unidades | I36: kevin | J36: Martinez | K36: Garcia | L36: Hombre | M36: 13000 | N36: Pesos Mexicanos | O36: =+M36-1194.37-242.67-242.67 -> 11320.29 | P36: Pesos Mexicanos | Q36: 1 | R36: 1 | S36: 1 | T36: 1 | U36: 29 | V36: 29 | W36: 1 | X36: 1 | Y36: 1 | Z36: 1 | AA36: 1 | AB36: 1 | AC36: 1 | AD36: Instituto Municipal del Deporte de Playas de Rosarito (IMDER) | AE36: 45747 | AF36: Primer Trimestre, Se Registra Nomina No.6, 10 AL 23 marzo 2025
A37: 2025 | B37: 45658 | C37: 45747 | D37: Personal de confianza | E37: Tecnico de Mantenimiento | F37: Mantenimiento General | G37: Mantenimiento General | H37: Conservaciones de Unidades | I37: Gustavo Jahir | J37: Ramirez | K37: Robles | L37: Hombre | M37: 13000 | N37: Pesos Mexicanos | O37: =+M37-1194.37-242.67-242.67 -> 11320.29 | P37: Pesos Mexicanos | Q37: 1 | R37: 1 | S37: 1 | T37: 1 | U37: 30 | V37: 30 | W37: 1 | X37: 1 | Y37: 1 | Z37: 1 | AA37: 1 | AB37: 1 | AC37: 1 | AD37: Instituto Municipal del Deporte de Playas de Rosarito (IMDER) | AE37: 45747 | AF37: Primer Trimestre, Se Registra Nomina No.6, 10 AL 23 marzo 2025
A38: 2025 | B38: 45658 | C38: 45747 | D38: Personal de confianza | E38: Tecnico de Mantenimiento | F38: Mantenimiento General | G38: Mantenimiento General | H38: Conservaciones de Unidades | I38: Carlos Augusto | J38: Cervantes | K38: Gonzalez | L38: Hombre | M38: 13000 | N38: Pesos Mexicanos | O38: =+M38-1194.37-242.67-242.67 -> 11320.29 | P38: Pesos Mexicanos | Q38: 1 | R38: 1 | S38: 1 | T38: 1 | U38: 31 | V38: 31 | W38: 1 | X38: 1 | Y38: 1 | Z38: 1 | AA38: 1 | AB38: 1 | AC38: 1 | AD38: Instituto Municipal del Deporte de Playas de Rosarito (IMDER) | AE38: 45747 | AF38: Primer Trimestre, Se Registra Nomina No.6, 10 AL 23 marzo 2025

Sheet Hidden_1
A1: Funcionaria (o)
A2: Persona servidora pública
A3: Persona servidora pública eventual
A4: Integrante
A5: Empleada (o)
A6: Representante popular
A7: Miembro del poder judicial
A8: Miembro de órgano autónomo
A9: Personal de confianza
A10: Persona prestadora de servicios profesionales
A11: Otro

Sheet Hidden_2
A1: Hombre
A2: Mujer

Sheet Tabla_380000
B1: 2 | C1: 6 | D1: 6 | E1: 1 | F1: 1
B2: 49257 | C2: 49258 | D2: 49259 | E2: 49260 | F2: 49261
A3: ID | B3: Denominación de las percepciones adicionales en dinero | C3: Monto bruto de las percepciones adicionales en dinero | D3: Monto neto de las percepciones adicionales en dinero | E3: Tipo de moneda de las percepciones adicionales en dinero | F3: Periodicidad de las percepciones adicionales en dinero
A4: 1 | B4: 0 | C4: 0 | D4: 0 | E4: 0 | F4: 0

Sheet Tabla_379987
B1: 2 | C1: 1
B2: 49235 | C2: 49236
A3: ID | B3: Descripción de las percepciones adicionales en especie | C3: Periodicidad de las percepciones adicionales en especie
A4: 1 | B4: 0 | C4: 0

Sheet Tabla_380001
B1: 2 | C1: 6 | D1: 6 | E1: 1 | F1: 1
B2: 49264 | C2: 49265 | D2: 49266 | E2: 49262 | F2: 49263
A3: ID | B3: Denominación de los ingresos | C3: Monto bruto de los ingresos | D3: Monto neto de los ingresos | E3: Tipo de moneda de los ingresos | F3: Periodicidad de los ingresos
A4: 1 | B4: 0 | C4: 0 | D4: 0 | E4: 0 | F4: 0

Sheet Tabla_379971
B1: 1 | C1: 6 | D1: 6 | E1: 1 | F1: 1
B2: 49215 | C2: 49216 | D2: 49217 | E2: 49218 | F2: 49219
A3: ID | B3: Denominación de los sistemas de compensación | C3: Monto bruto de los sistemas de compensación | D3: Monto neto de los sistemas de compensación | E3: Tipo de moneda de los sistemas de compensación | F3: Periodicidad de los sistemas de compensación
A4: 1 | B4: 0 | C4: 0 | D4: 0 | E4: 0 | F4: 0

Sheet Tabla_379991
B1: 1 | C1: 6 | D1: 6 | E1: 1 | F1: 1
B2: 49242 | C2: 49243 | D2: 49244 | E2: 49245 | F2: 49246
A3: ID | B3: Denominación de las gratificaciones | C3: Monto bruto de las gratificaciones | D3: Monto neto de las gratificaciones | E3: Tipo de moneda de las gratificaciones | F3: Periodicidad de las gratificaciones
A4: 1 | B4: Gratifiación de Fin de Año | C4: =+'Reporte de Formatos'!M8*2 -> 72000 | D4: =+C4-15381.52 -> 56618.48 | E4: Pesos Mexicanos | F4: Anual
A5: 2 | B5: Gratifiación de Fin de Año | C5: =+'Reporte de Formatos'!M9*2 -> 27800 | D5: =+C5-3782.01 -> 24017.99 | E5: Pesos Mexicanos | F5: Anual
A6: 3 | B6: Gratifiación de Fin de Año | C6: =+'Reporte de Formatos'!M10*2 -> 27800 | D6: =+C6-3782.01 -> 24017.99 | E6: Pesos Mexicanos | F6: Anual
A7: 4 | B7: Gratifiación de Fin de Año | C7: =+'Reporte de Formatos'!M11*2 -> 39000 | D7: =+C7-6292.67 -> 32707.33 | E7: Pesos Mexicanos | F7: Anual
A8: 5 | B8: Gratifiación de Fin de Año | C8: =+'Reporte de Formatos'!M12*2 -> 39000 | D8: =+C8-6292.67 -> 32707.33 | E8: Pesos Mexicanos | F8: Anual
A9: 6 | B9: Gratifiación de Fin de Año | C9: =+'Reporte de Formatos'!M13*2 -> 35000 | D9: =+C9-5351.87 -> 29648.13 | E9: Pesos Mexicanos | F9: Anual
A10: 7 | B10: Gratifiación de Fin de Año | C10: =+'Reporte de Formatos'!M14*2 -> 35000 | D10: =+C10-5351.87 -> 29648.13 | E10: Pesos Mexicanos | F10: Anual
A11: 8 | B11: Gratifiación de Fin de Año | C11: =+'Reporte de Formatos'!M15*2 -> 26000 | D11: =+C11-3397.53 -> 22602.47 | E11: Pesos Mexicanos | F11: Anual
A12: 9 | B12: Gratifiación de Fin de Año | C12: =+'Reporte de Formatos'!M16*2 -> 26000 | D12: =+C12-3397.53 -> 22602.47 | E12: Pesos Mexicanos | F12: Anual
A13: 10 | B13: Gratifiación de Fin de Año | C13: =+'Reporte de Formatos'!M17*2 -> 26000 | D13: =+C13-3397.53 -> 22602.47 | E13: Pesos Mexicanos | F13: Anual
A14: 11 | B14: Gratifiación de Fin de Año | C14: =+'Reporte de Formatos'!M18*2 -> 26000 | D14: =+C14-3397.53 -> 22602.47 | E14: Pesos Mexicanos | F14: Anual
A15: 12 | B15: Gratifiación de Fin de Año | C15: =+'Reporte de Formatos'!M19*2 -> 26000 | D15: =+C15-3397.53 -> 22602.47 | E15: Pesos Mexicanos | F15: Anual
A16: 13 | B16: Gratifiación de Fin de Año | C16: =+'Reporte de Formatos'!M20*2 -> 51400 | D16: =+C16-9209.15 -> 42190.85 | E16: Pesos Mexicanos | F16: Anual
A17: 14 | B17: Gratifiación de Fin de Año | C17: =+'Reporte de Formatos'!M21*2 -> 27800 | D17: =+C17-3782.01 -> 24017.99 | E17: Pesos Mexicanos | F17: Anual
A18: 15 | B18: Gratifiación de Fin de Año | C18: =+'Reporte de Formatos'!M22*2 -> 27800 | D18: =+C18-3782.01 -> 24017.99 | E18: Pesos Mexicanos | F18: Anual
A19: 16 | B19: Gratifiación de Fin de Año | C19: =+'Reporte de Formatos'!M23*2 -> 27800 | D19: =+C19-3782.01 -> 24017.99 | E19: Pesos Mexicanos | F19: Anual
A20: 17 | B20: Gratifiación de Fin de Año | C20: =+'Reporte de Formatos'!M24*2 -> 51400 | D20: =+C20-9209.15 -> 42190.85 | E20: Pesos Mexicanos | F20: Anual
A21: 18 | B21: Gratifiación de Fin de Año | C21: =+'Reporte de Formatos'!M25*2 -> 26000 | D21: =+C21-3397.53 -> 22602.47 | E21: Pesos Mexicanos | F21: Anual
A22: 19 | B22: Gratifiación de Fin de Año | C22: =+'Reporte de Formatos'!M26*2 -> 26000 | D22: =+C22-3397.53 -> 22602.47 | E22: Pesos Mexicanos | F22: Anual
A23: 20 | B23: Gratifiación de Fin de Año | C23: =+'Reporte de Formatos'!M27*2 -> 26000 | D23: =+C23-3397.53 -> 22602.47 | E23: Pesos Mexicanos | F23: Anual
A24: 21 | B24: Gratifiación de Fin de Año | C24: =+'Reporte de Formatos'!M28*2 -> 26000 | D24: =+C24-3397.53 -> 22602.47 | E24: Pesos Mexicanos | F24: Anual
A25: 22 | B25: Gratifiación de Fin de Año | C25: =+'Reporte de Formatos'!M29*2 -> 26000 | D25: =+C25-3397.53 -> 22602.47 | E25: Pesos Mexicanos | F25: Anual
A26: 23 | B26: Gratifiación de Fin de Año | C26: =+'Reporte de Formatos'!M30*2 -> 26000 | D26: =+C26-3397.53 -> 22602.47 | E26: Pesos Mexicanos | F26: Anual
A27: 24 | B27: Gratifiación de Fin de Año | C27: =+'Reporte de Formatos'!M31*2 -> 35000 | D27: =+C27-5351.87 -> 29648.13 | E27: Pesos Mexicanos | F27: Anual
A28: 25 | B28: Gratifiación de Fin de Año | C28: =+'Reporte de Formatos'!M32*2 -> 26000 | D28: =+C28-3397.53 -> 22602.47 | E28: Pesos Mexicanos | F28: Anual
A29: 26 | B29: Gratifiación de Fin de Año | C29: =+'Reporte de Formatos'!M33*2 -> 26000 | D29: =+C29-3397.53 -> 22602.47 | E29: Pesos Mexicanos | F29: Anual
A30: 27 | B30: Gratifiación de Fin de Año | C30: =+'Reporte de Formatos'!M34*2 -> 26000 | D30: =+C30-3397.53 -> 22602.47 | E30: Pesos Mexicanos | F30: Anual
A31: 28 | B31: Gratifiación de Fin de Año | C31: =+'Reporte de Formatos'!M35*2 -> 26000 | D31: =+C31-3397.53 -> 22602.47 | E31: Pesos Mexicanos | F31: Anual
A32: 29 | B32: Gratifiación de Fin de Año | C32: =+'Reporte de Formatos'!M36*2 -> 26000 | D32: =+C32-3397.53 -> 22602.47 | E32: Pesos Mexicanos | F32: Anual
A33: 30 | B33: Gratifiación de Fin de Año | C33: =+'Reporte de Formatos'!M37*2 -> 26000 | D33: =+C33-3397.53 -> 22602.47 | E33: Pesos Mexicanos | F33: Anual
A34: 31 | B34: Gratifiación de Fin de Año | C34: =+'Reporte de Formatos'!M38*2 -> 26000 | D34: =+C34-3397.53 -> 22602.47 | E34: Pesos Mexicanos | F34: Anual

Sheet Tabla_379978
B1: 1 | C1: 6 | D1: 6 | E1: 1 | F1: 1
B2: 49220 | C2: 49221 | D2: 49222 | E2: 49223 | F2: 49224
A3: ID | B3: Denominación de las primas | C3: Monto bruto de las primas | D3: Monto neto de las primas | E3: Tipo de moneda de las primas | F3: Periodicidad de las primas
A4: 1 | B4: Prima Vacacional | C4: 14400 | D4: =+C4-1145.61 -> 13254.39 | E4: Pesos Mexicanos | F4: Anual
A5: 2 | B5: Prima Vacacional | C5: 5560 | D5: =+C5-213.81 -> 5346.19 | E5: Pesos Mexicanos | F5: Anual
A6: 3 | B6: Prima Vacacional | C6: 5560 | D6: =+C6-213.81 -> 5346.19 | E6: Pesos Mexicanos | F6: Anual
A7: 4 | B7: Prima Vacacional | C7: 7800 | D7: =+C7-357.17 -> 7442.83 | E7: Pesos Mexicanos | F7: Anual
A8: 5 | B8: Prima Vacacional | C8: 7800 | D8: =+C8-357.17 -> 7442.83 | E8: Pesos Mexicanos | F8: Anual
A9: 6 | B9: Prima Vacacional | C9: 7000 | D9: =+C9-305.97 -> 6694.03 | E9: Pesos Mexicanos | F9: Anual
A10: 7 | B10: Prima Vacacional | C10: 7000 | D10: =+C10-305.97 -> 6694.03 | E10: Pesos Mexicanos | F10: Anual
A11: 8 | B11: Prima Vacacional | C11: 5200 | D11: =+C11-190.77 -> 5009.23 | E11: Pesos Mexicanos | F11: Anual
A12: 9 | B12: Prima Vacacional | C12: 5200 | D12: =+C12-190.77 -> 5009.23 | E12: Pesos Mexicanos | F12: Anual
A13: 10 | B13: Prima Vacacional | C13: 5200 | D13: =+C13-190.77 -> 5009.23 | E13: Pesos Mexicanos | F13: Anual
A14: 11 | B14: Prima Vacacional | C14: 5200 | D14: =+C14-190.77 -> 5009.23 | E14: Pesos Mexicanos | F14: Anual
A15: 12 | B15: Prima Vacacional | C15: 5200 | D15: =+C15-190.77 -> 5009.23 | E15: Pesos Mexicanos | F15: Anual
A16: 13 | B16: Prima Vacacional | C16: 10280 | D16: =+C16-515.89 -> 9764.11 | E16: Pesos Mexicanos | F16: Anual
A17: 14 | B17: Prima Vacacional | C17: 5560 | D17: =+C17-213.81 -> 5346.19 | E17: Pesos Mexicanos | F17: Anual
A18: 15 | B18: Prima Vacacional | C18: 5560 | D18: =+C18-213.81 -> 5346.19 | E18: Pesos Mexicanos | F18: Anual
A19: 16 | B19: Prima Vacacional | C19: 5560 | D19: =+C19-213.81 -> 5346.19 | E19: Pesos Mexicanos | F19: Anual
A20: 17 | B20: Prima Vacacional | C20: 10280 | D20: =+C20-515.89 -> 9764.11 | E20: Pesos Mexicanos | F20: Anual
A21: 18 | B21: Prima Vacacional | C21: 5200 | D21: =+C21-190.77 -> 5009.23 | E21: Pesos Mexicanos | F21: Anual
A22: 19 | B22: Prima Vacacional | C22: 5200 | D22: =+C22-190.77 -> 5009.23 | E22: Pesos Mexicanos | F22: Anual
A23: 20 | B23: Prima Vacacional | C23: 5200 | D23: =+C23-190.77 -> 5009.23 | E23: Pesos Mexicanos | F23: Anual
A24: 21 | B24: Prima Vacacional | C24: 5200 | D24: =+C24-190.77 -> 5009.23 | E24: Pesos Mexicanos | F24: Anual
A25: 22 | B25: Prima Vacacional | C25: 5200 | D25: =+C25-190.77 -> 5009.23 | E25: Pesos Mexicanos | F25: Anual
A26: 23 | B26: Prima Vacacional | C26: 5200 | D26: =+C26-190.77 -> 5009.23 | E26: Pesos Mexicanos | F26: Anual
A27: 24 | B27: Prima Vacacional | C27: 7000 | D27: =+C27-305.97 -> 6694.03 | E27: Pesos Mexicanos | F27: Anual
A28: 25 | B28: Prima Vacacional | C28: 5200 | D28: =+C28-190.77 -> 5009.23 | E28: Pesos Mexicanos | F28: Anual
A29: 26 | B29: Prima Vacacional | C29: 5200 | D29: =+C29-190.77 -> 5009.23 | E29: Pesos Mexicanos | F29: Anual
A30: 27 | B30: Prima Vacacional | C30: 5200 | D30: =+C30-190.77 -> 5009.23 | E30: Pesos Mexicanos | F30: Anual
A31: 28 | B31: Prima Vacacional | C31: 5200 | D31: =+C31-190.77 -> 5009.23 | E31: Pesos Mexicanos | F31: Anual
A32: 29 | B32: Prima Vacacional | C32: 5200 | D32: =+C32-190.77 -> 5009.23 | E32: Pesos Mexicanos | F32: Anual
A33: 30 | B33: Prima Vacacional | C33: 5200 | D33: =+C33-190.77 -> 5009.23 | E33: Pesos Mexicanos | F33: Anual
A34: 31 | B34: Prima Vacacional

Sheet Tabla_379988
B1: 1 | C1: 6 | D1: 6 | E1: 1 | F1: 1
B2: 49237 | C2: 49238 | D2: 49239 | E2: 49240 | F2: 49241
A3: ID | B3: Denominación de las comisiones | C3: Monto bruto de las comisiones | D3: Monto neto de las comisiones | E3: Tipo de moneda de las comisiones | F3: Periodicidad de las comisiones
A4: 1 | B4: 0 | C4: 0 | D4: 0 | E4: 0 | F4: 0

Sheet Tabla_379979
B1: 1 | C1: 6 | D1: 6 | E1: 1 | F1: 1
B2: 49225 | C2: 49226 | D2: 49227 | E2: 49228 | F2: 49229
A3: ID | B3: Denominación de las dietas | C3: Monto bruto de las dietas | D3: Monto neto de las dietas | E3: Tipo de moneda de las dietas | F3: Periodicidad de las dietas
A4: 1 | B4: 0 | C4: 0 | D4: 0 | E4: 0 | F4: 0

Sheet Tabla_379980
B1: 1 | C1: 6 | D1: 6 | E1: 1 | F1: 1
B2: 49230 | C2: 49231 | D2: 49232 | E2: 49233 | F2: 49234
A3: ID | B3: Denominación de los bonos | C3: Monto bruto de los bonos | D3: Monto neto de los bonos | E3: Tipo de moneda de los bonos | F3: Periodicidad de los bonos
A4: 1 | B4: 0 | C4: 0 | D4: 0 | E4: 0 | F4: 0

Sheet Tabla_379998
B1: 1 | C1: 6 | D1: 6 | E1: 1 | F1: 1
B2: 49247 | C2: 49248 | D2: 49249 | E2: 49250 | F2: 49251
A3: ID | B3: Denominación de los estímulos | C3: Monto bruto de los estímulos | D3: Monto neto de los estímulos | E3: Tipo de moneda de los estímulos | F3: Periodicidad de los estímulos
A4: 1 | B4: 0 | C4: 0 | D4: 0 | E4: 0 | F4: 0

Sheet Tabla_380002
B1: 1 | C1: 6 | D1: 6 | E1: 1 | F1: 1
B2: 49267 | C2: 49268 | D2: 49269 | E2: 49270 | F2: 49271
A3: ID | B3: Denominación de los apoyos económicos | C3: Monto bruto de los apoyos económicos | D3: Monto neto de los apoyos económicos | E3: Tipo de moneda de los apoyos económicos | F3: Periodicidad de los apoyos económicos
A4: 1 | B4: 0 | C4: 0 | D4: 0 | E4: 0 | F4: 0

Sheet Tabla_379999
B1: 1 | C1: 6 | D1: 6 | E1: 1 | F1: 1
B2: 49252 | C2: 49253 | D2: 49254 | E2: 49255 | F2: 49256
A3: ID | B3: Denominación de las prestaciones económicas | C3: Monto bruto de las prestaciones económicas | D3: Monto neto de las prestaciones económicas | E3: Tipo de moneda de las prestaciones económicas | F3: Periodicidad de las prestaciones económicas
A4: 1 | B4: 0 | C4: 0 | D4: 0 | E4: 0 | F4: 0

Sheet Tabla_380003
B1: 1 | C1: 1
B2: 49272 | C2: 49273
A3: ID | B3: Descripción de las prestaciones en especie | C3: Periodicidad de las prestaciones en especie
A4: 1 | B4: 0 | C4: 0
