Workbook
Name Hidden_13: Hidden_1!$A$1:$A$11
Name Hidden_211: Hidden_2!$A$1:$A$2

Sheet Reporte de Formatos
A1: 45824
A2: TÍTULO | D2: NOMBRE CORTO | G2: DESCRIPCIÓN
A3: Remuneración bruta y neta | D3: LTAIPEBC-81-F-VIIIA | G3: La información relativa a la remuneración mensual bruta y neta de conformidad con el tabulador de sueldos y salarios aplicable a cada sujeto obligado, así como todos los conceptos que sean adicionales y distintos a las remuneraciones, especificando la periodicidad con que se otorga cada uno de éstos (quincenal, mensual, semestral, anual, por única ocasión, etcétera)
A4: 1 | B4: 4 | C4: 4 | D4: 9 | E4: 1 | F4: 2 | G4: 2 | H4: 2 | I4: 1 | J4: 1 | K4: 1 | L4: 9 | M4: 6 | N4: 1 | O4: 6 | P4: 1 | Q4: 10 | R4: 10 | S4: 10 | T4: 10 | U4: 10 | V4: 10 | W4: 10 | X4: 10 | Y4: 10 | Z4: 10 | AA4: 10 | AB4: 10 | AC4: 10 | AD4: 2 | AE4: 4 | AF4: 13 | AG4: 14
A5: 379981 | B5: 379993 | C5: 379973 | D5: 379994 | E5: 379995 | F5: 379976 | G5: 379982 | H5: 379983 | I5: 379984 | J5: 379977 | K5: 379974 | L5: 379985 | M5: 379996 | N5: 379997 | O5: 379986 | P5: 379975 | Q5: 380000 | R5: 379987 | S5: 380001 | T5: 379971 | U5: 379991 | V5: 379978 | W5: 379988 | X5: 379979 | Y5: 379980 | Z5: 379998 | AA5: 380002 | AB5: 379999 | AC5: 380003 | AD5: 379989 | AE5: 379990 | AF5: 379992 | AG5: 379972
A6: Tabla Campos
A7: Ejercicio | B7: Fecha de inicio del periodo que se informa | C7: Fecha de término del periodo que se informa | D7: Tipo de integrante del sujeto obligado (catálogo) | E7: Clave o nivel del puesto | F7: Denominación o descripción del puesto | G7: Denominación del cargo | H7: Área de adscripción | I7: Nombre (s) | J7: Primer apellido | K7: Segundo apellido | L7: Sexo (catálogo) | M7: Monto mensual bruto de la remuneración, en tabulador | N7: Tipo de moneda de la remuneración bruta | O7: Monto mensual neto de la remuneración, en tabulador | P7: Tipo de moneda de la remuneración neta | Q7: Percepciones adicionales en dinero, Monto bruto y neto, tipo de moneda y su periodicidad Tabla_380000 | R7: Percepciones adicionales en especie y su periodicidad Tabla_379987 | S7: Ingresos, monto bruto y neto, tipo de moneda y su periodicidad Tabla_380001 | T7: Sistemas de compensación, monto bruto y neto, tipo de moneda y su periodicidad Tabla_379971 | U7: Gratificaciones, monto bruto y neto, tipo de moneda y su periodicidad Tabla_379991 | V7: Primas, monto bruto y neto, tipo de moneda y su periodicidad Tabla_379978 | W7: Comisiones, monto bruto y neto, tipo de moneda y su periodicidad Tabla_379988 | X7: Dietas, monto bruto y neto, tipo de moneda y su periodicidad Tabla_379979 | Y7: Bonos, monto bruto y neto, tipo de moneda y su periodicidad Tabla_379980 | Z7: Estímulos, monto bruto y neto, tipo de moneda y su periodicidad Tabla_379998 | AA7: Apoyos económicos, monto bruto y neto, tipo de moneda y su periodicidad Tabla_380002 | AB7: Prestaciones económicas, monto bruto y neto, tipo de moneda y su periodicidad Tabla_379999 | AC7: Prestaciones en especie y su periodicidad Tabla_380003 | AD7: Área(s) responsable(s) que genera(n), posee(n), publica(n) y actualizan la información | AE7: Fecha de validación | AF7: Fecha de Actualización | AG7: Nota
A8: 2023 | B8: 44927 | C8: 45016 | D8: Servidor(a) público(a) | E8: DIRECTOR | F8: DIRECTOR | G8: DIRECTOR | H8: DIRECCION | I8: ABRAHAM | J8: GOMEZ | K8: ALVAREZ | L8: Masculino | M8: 35000 | N8: MONEDA NACIONAL | O8: 23130 | P8: MONEDA NACIONAL | Q8: =Tabla_380000!A4 -> 1 | R8: =Tabla_379987!A4 -> 1 | S8: =Tabla_380001!A4 -> 1 | T8: =Tabla_379971!A4 -> 1 | U8: =Tabla_379991!A4 -> 1 | V8: =Tabla_379978!A4 -> 1 | W8: =Tabla_379988!A4 -> 1 | X8: =Tabla_379979!A4 -> 1 | Y8: =Tabla_379980!A4 -> 1 | Z8: =Tabla_379998!A4 -> 1 | AA8: =Tabla_380002!A4 -> 1 | AB8: =Tabla_379999!A4 -> 1 | AC8: =Tabla_380003!A4 -> 1 | AD8: PRODEUR | AE8: 45023 | AF8: 45023 | AG8: NO
A9: 2023 | B9: 44927 | C9: 45016 | D9: Servidor(a) público(a) | E9: CONTADOR GENERAL | F9: CONTADOR GENERAL | G9: CONTADOR GENERAL | H9: COORDINACION ADMINISTRATIVA | I9: FRANCISCO JAVIER | J9: REYES | K9: FONSECA | L9: Masculino | M9: 23000 | N9: MONEDA NACIONAL | O9: 17765 | P9: MONEDA NACIONAL | Q9: =Tabla_380000!A5 -> 2 | R9: =Tabla_379987!A5 -> 2 | S9: =Tabla_380001!A5 -> 2 | T9: =Tabla_379971!A5 -> 2 | U9: =Tabla_379991!A5 -> 2 | V9: =Tabla_379978!A5 -> 2 | W9: =Tabla_379988!A5 -> 2 | X9: =Tabla_379979!A5 -> 2 | Y9: =Tabla_379980!A5 -> 2 | Z9: =Tabla_379998!A5 -> 2 | AA9: =Tabla_380002!A5 -> 2 | AB9: =Tabla_379999!A5 -> 2 | AC9: =Tabla_380003!A5 -> 2 | AD9: PRODEUR | AE9: 45023 | AF9: 45023 | AG9: NO
A10: 2023 | B10: 44927 | C10: 45016 | D10: Servidor(a) público(a) | E10: COORDINADOR DE OBRAS Y PROYECTOS | F10: COORDINADOR DE OBRAS Y PROYECTOS | G10: COORDINADOR DE OBRAS Y PROYECTOS | H10: COORDINACION DE OBRAS Y PROYECTOS | I10: JOSE OBED | J10: AISPURO | K10: VALENZUELA | L10: Masculino | M10: 23000 | N10: MONEDA NACIONAL | O10: 17765 | P10: MONEDA NACIONAL | Q10: =Tabla_380000!A6 -> 3 | R10: =Tabla_379987!A6 -> 3 | S10: =Tabla_380001!A6 -> 3 | T10: =Tabla_379971!A6 -> 3 | U10: =Tabla_379991!A6 -> 3 | V10: =Tabla_379978!A6 -> 3 | W10: =Tabla_379988!A6 -> 3 | X10: =Tabla_379979!A6 -> 3 | Y10: =Tabla_379980!A6 -> 3 | Z10: =Tabla_379998!A6 -> 3 | AA10: =Tabla_380002!A6 -> 3 | AB10: =Tabla_379999!A6 -> 3 | AC10: =Tabla_380003!A6 -> 3 | AD10: PRODEUR | AE10: 45023 | AF10: 45023 | AG10: NO
A11: 2023 | B11: 44927 | C11: 45016 | D11: Servidor(a) público(a) | E11: JEFE DE SUPERVISION Y CONTROL DE OBRA | F11: JEFE DE SUPERVISION Y CONTROL DE OBRA | G11: JEFE DE SUPERVISION Y CONTROL DE OBRA | H11: SUPERVISION Y CONTROL DE OBRA | I11: CARLOS | J11: LOPEZ | K11: FIGUEROA | L11: Masculino | M11: 17000 | N11: MONEDA NACIONAL | O11: 13753.55 | P11: MONEDA NACIONAL | Q11: =Tabla_380000!A7 -> 4 | R11: =Tabla_379987!A7 -> 4 | S11: =Tabla_380001!A7 -> 4 | T11: =Tabla_379971!A7 -> 4 | U11: =Tabla_379991!A7 -> 4 | V11: =Tabla_379978!A7 -> 4 | W11: =Tabla_379988!A7 -> 4 | X11: =Tabla_379979!A7 -> 4 | Y11: =Tabla_379980!A7 -> 4 | Z11: =Tabla_379998!A7 -> 4 | AA11: =Tabla_380002!A7 -> 4 | AB11: =Tabla_379999!A7 -> 4 | AC11: =Tabla_380003!A7 -> 4 | AD11: PRODEUR | AE11: 45023 | AF11: 45023 | AG11: NO
A12: 2023 | B12: 44927 | C12: 45016 | D12: Servidor(a) público(a) | E12: JEFE DE LICITACIONES | F12: JEFE DE LICITACIONES | G12: JEFE DE LICITACIONES | H12: COORDINACION DE ESTUDIOS Y PROYECTOS | I12: ILIANA ARELI | J12: VALDES | K12: ROMO | L12: Femenino | M12: 17000 | N12: MONEDA NACIONAL | O12: 13753.55 | P12: MONEDA NACIONAL | Q12: =Tabla_380000!A8 -> 5 | R12: =Tabla_379987!A8 -> 5 | S12: =Tabla_380001!A8 -> 5 | T12: =Tabla_379971!A8 -> 5 | U12: =Tabla_379991!A8 -> 5 | V12: =Tabla_379978!A8 -> 5 | W12: =Tabla_379988!A8 -> 5 | X12: =Tabla_379979!A8 -> 5 | Y12: =Tabla_379980!A8 -> 5 | Z12: =Tabla_379998!A8 -> 5 | AA12: =Tabla_380002!A8 -> 5 | AB12: =Tabla_379999!A8 -> 5 | AC12: =Tabla_380003!A8 -> 5 | AD12: PRODEUR | AE12: 45023 | AF12: 45023 | AG12: NO
A13: 2023 | B13: 44927 | C13: 45016 | D13: Servidor(a) público(a) | E13: JEFE DE ESTUDIOS Y PROYECTOS | F13: JEFE DE ESTUDIOS Y PROYECTOS | G13: JEFE DE ESTUDIOS Y PROYECTOS | H13: COORDINACION DE ESTUDIOS Y PROYECTOS | I13: MOISES ALEJANDRO | J13: HERNANDEZ | K13: LIMON | L13: Masculino | M13: 17000 | N13: MONEDA NACIONAL | O13: 13753.55 | P13: MONEDA NACIONAL | Q13: =Tabla_380000!A9 -> 6 | R13: =Tabla_379987!A9 -> 6 | S13: =Tabla_380001!A9 -> 6 | T13: =Tabla_379971!A9 -> 6 | U13: =Tabla_379991!A9 -> 6 | V13: =Tabla_379978!A9 -> 6 | W13: =Tabla_379988!A9 -> 6 | X13: =Tabla_379979!A9 -> 6 | Y13: =Tabla_379980!A9 -> 6 | Z13: =Tabla_379998!A9 -> 6 | AA13: =Tabla_380002!A9 -> 6 | AB13: =Tabla_379999!A9 -> 6 | AC13: =Tabla_380003!A9 -> 6 | AD13: PRODEUR | AE13: 45023 | AF13: 45023 | AG13: NO
A14: 2023 | B14: 44927 | C14: 45016 | D14: Servidor(a) público(a) | E14: SUBRECAUDADOR | F14: SUBRECAUDADOR | G14: SUBRECAUDADOR | H14: SUBRECAUDACION | I14: IRIANI YAMELI | J14: REYES | K14: PACHECO | L14: Femenino | M14: 12000 | N14: MONEDA NACIONAL | O14: 9898 | P14: MONEDA NACIONAL | Q14: =Tabla_380000!A10 -> 7 | R14: =Tabla_379987!A10 -> 7 | S14: =Tabla_380001!A10 -> 7 | T14: =Tabla_379971!A10 -> 7 | U14: =Tabla_379991!A10 -> 7 | V14: =Tabla_379978!A10 -> 7 | W14: =Tabla_379988!A10 -> 7 | X14: =Tabla_379979!A10 -> 7 | Y14: =Tabla_379980!A10 -> 7 | Z14: =Tabla_379998!A10 -> 7 | AA14: =Tabla_380002!A10 -> 7 | AB14: =Tabla_379999!A10 -> 7 | AC14: =Tabla_380003!A10 -> 7 | AD14: PRODEUR | AE14: 45023 | AF14: 45023 | AG14: NO
A15: 2023 | B15: 44927 | C15: 45016 | D15: Servidor(a) público(a) | E15: TOPOGRAFO | F15: TOPOGRAFO | G15: TOPOGRAFO | H15: COORDINACION DE ESTUDIOS Y PROYECTOS | I15: MARCO ANTONIO | J15: VAZQUEZ | K15: AMBROS | L15: Masculino | M15: 12000 | N15: MONEDA NACIONAL | O15: 9898 | P15: MONEDA NACIONAL | Q15: =Tabla_380000!A11 -> 8 | R15: =Tabla_379987!A11 -> 8 | S15: =Tabla_380001!A11 -> 8 | T15: =Tabla_379971!A11 -> 8 | U15: =Tabla_379991!A11 -> 8 | V15: =Tabla_379978!A11 -> 8 | W15: =Tabla_379988!A11 -> 8 | X15: =Tabla_379979!A11 -> 8 | Y15: =Tabla_379980!A11 -> 8 | Z15: =Tabla_379998!A11 -> 8 | AA15: =Tabla_380002!A11 -> 8 | AB15: =Tabla_379999!A11 -> 8 | AC15: =Tabla_380003!A11 -> 8 | AD15: PRODEUR | AE15: 45023 | AF15: 45023 | AG15: NO
A16: 2023 | B16: 44927 | C16: 45016 | D16: Servidor(a) público(a) | E16: NOTIFICADOR | F16: NOTIFICADOR | G16: NOTIFICADOR | H16: SUBRECAUDACION | I16: JULIO ADAN | J16: BAUTISTA | K16: CASTAÑEDA | L16: Masculino | M16: 9502.48 | N16: MONEDA NACIONAL | O16: 7170 | P16: MONEDA NACIONAL | Q16: =Tabla_380000!A12 -> 9 | R16: =Tabla_379987!A12 -> 9 | S16: =Tabla_380001!A12 -> 9 | T16: =Tabla_379971!A12 -> 9 | U16: =Tabla_379991!A12 -> 9 | V16: =Tabla_379978!A12 -> 9 | W16: =Tabla_379988!A12 -> 9 | X16: =Tabla_379979!A12 -> 9 | Y16: =Tabla_379980!A12 -> 9 | Z16: =Tabla_379998!A12 -> 9 | AA16: =Tabla_380002!A12 -> 9 | AB16: =Tabla_379999!A12 -> 9 | AC16: =Tabla_380003!A12 -> 9 | AD16: PRODEUR | AE16: 45023 | AF16: 45023 | AG16: NO
A17: 2023 | B17: 44927 | C17: 45016 | D17: Servidor(a) público(a) | E17: ANALISTA ESPECIALIZADO | F17: ANALISTA ESPECIALIZADO | G17: ANALISTA ESPECIALIZADO | H17: SUBRECAUDACION | I17: AMERICA EUNICE | J17: AGUAS | K17: ALARCON | L17: Femenino | M17: 15000 | N17: MONEDA NACIONAL | O17: 12106 | P17: MONEDA NACIONAL | Q17: =Tabla_380000!A13 -> 10 | R17: =Tabla_379987!A13 -> 10 | S17: =Tabla_380001!A13 -> 10 | T17: =Tabla_379971!A13 -> 10 | U17: =Tabla_379991!A13 -> 10 | V17: =Tabla_379978!A13 -> 10 | W17: =Tabla_379988!A13 -> 10 | X17: =Tabla_379979!A13 -> 10 | Y17: =Tabla_379980!A13 -> 10 | Z17: =Tabla_379998!A13 -> 10 | AA17: =Tabla_380002!A13 -> 10 | AB17: =Tabla_379999!A13 -> 10 | AC17: =Tabla_380003!A13 -> 10 | AD17: PRODEUR | AE17: 45023 | AF17: 45023 | AG17: NO
A18: 2023 | B18: 44927 | C18: 45016 | D18: Servidor(a) público(a) | E18: ANALISTA PRESUPUESTAL CONTABLE | F18: ANALISTA PRESUPUESTAL CONTABLE | G18: ANALISTA PRESUPUESTAL CONTABLE | H18: COORDINACION ADMINISTRATIVA | I18: JUDITH SINAI | J18: PEREZ | K18: MARTINEZ | L18: Femenino | M18: 12000 | N18: MONEDA NACIONAL | O18: 9898 | P18: MONEDA NACIONAL | Q18: =Tabla_380000!A14 -> 11 | R18: =Tabla_379987!A14 -> 11 | S18: =Tabla_380001!A14 -> 11 | T18: =Tabla_379971!A14 -> 11 | U18: =Tabla_379991!A14 -> 11 | V18: =Tabla_379978!A14 -> 11 | W18: =Tabla_379988!A14 -> 11 | X18: =Tabla_379979!A14 -> 11 | Y18: =Tabla_379980!A14 -> 11 | Z18: =Tabla_379998!A14 -> 11 | AA18: =Tabla_380002!A14 -> 11 | AB18: =Tabla_379999!A14 -> 11 | AC18: =Tabla_380003!A14 -> 11 | AD18: PRODEUR | AE18: 45023 | AF18: 45023 | AG18: NO
A19: 2023 | B19: 44927 | C19: 45016 | D19: Servidor(a) público(a) | E19: SECRETARIA | F19: SECRETARIA | G19: SECRETARIA | H19: DIRECCION | I19: GISELA | J19: URIAS | K19: CHAVEZ | L19: Femenino | M19: 10500 | N19: MONEDA NACIONAL | O19: 8757 | P19: MONEDA NACIONAL | Q19: =Tabla_380000!A15 -> 12 | R19: =Tabla_379987!A15 -> 12 | S19: =Tabla_380001!A15 -> 12 | T19: =Tabla_379971!A15 -> 12 | U19: =Tabla_379991!A15 -> 12 | V19: =Tabla_379978!A15 -> 12 | W19: =Tabla_379988!A15 -> 12 | X19: =Tabla_379979!A15 -> 12 | Y19: =Tabla_379980!A15 -> 12 | Z19: =Tabla_379998!A15 -> 12 | AA19: =Tabla_380002!A15 -> 12 | AB19: =Tabla_379999!A15 -> 12 | AC19: =Tabla_380003!A15 -> 12 | AD19: PRODEUR | AE19: 45023 | AF19: 45023 | AG19: NO
A20: 2023 | B20: 44927 | C20: 45016 | D20: Servidor(a) público(a) | E20: RECURSOS HUMANOS Y MATERIALES | F20: RECURSOS HUMANOS Y MATERIALES | G20: RECURSOS HUMANOS Y MATERIALES | H20: COORDINACION ADMINISTRATIVA | I20: ROBERTO ALEJANDRO | J20: PERALES | K20: GOVEA | L20: Masculino | M20: 15000 | N20: MONEDA NACIONAL | O20: 12106 | P20: MONEDA NACIONAL | Q20: 13 | R20: 13 | S20: 13 | T20: 13 | U20: 13 | V20: 13 | W20: 13 | X20: 13 | Y20: 13 | Z20: 13 | AA20: 13 | AB20: 13 | AC20: 13 | AD20: PRODEUR | AE20: 45023 | AF20: 45023 | AG20: NO
A21: 2023 | B21: 44927 | C21: 45016 | D21: Servidor(a) público(a) | E21: AUXILIAR TECNICO | F21: AUXILIAR TECNICO | G21: AUXILIAR TECNICO | H21: COORDINACION DE ESTUDIOS Y PROYECTOS | I21: RODRIGO | J21: RODRIGUEZ | K21: RAMIREZ | L21: Masculino | M21: 9502.48 | N21: MONEDA NACIONAL | O21: 7170 | P21: MONEDA NACIONAL | Q21: 14 | R21: 14 | S21: 14 | T21: 14 | U21: 14 | V21: 14 | W21: 14 | X21: 14 | Y21: 14 | Z21: 14 | AA21: 14 | AB21: 14 | AC21: 14 | AD21: PRODEUR | AE21: 45023 | AF21: 45023 | AG21: NO
A22: 2023 | B22: 44927 | C22: 45016 | D22: Servidor(a) público(a) | E22: AUXILIAR DE ESTUDIOS Y PROYECTOS | F22: AUXILIAR DE ESTUDIOS Y PROYECTOS | G22: AUXILIAR DE ESTUDIOS Y PROYECTOS | H22: COORDINACION DE OBRAS Y PROYECTOS | I22: ARABELLA | J22: JIMENEZ | K22: MURACAMI | L22: Femenino | M22: 15000 | N22: MONEDA NACIONAL | O22: 12106 | P22: MONEDA NACIONAL | Q22: 15 | R22: 15 | S22: 15 | T22: 15 | U22: 15 | V22: 15 | W22: 15 | X22: 15 | Y22: 15 | Z22: 15 | AA22: 15 | AB22: 15 | AC22: 15 | AD22: PRODEUR | AE22: 45023 | AF22: 45023 | AG22: NO
A23: 2023 | B23: 44927 | C23: 45016 | D23: Servidor(a) público(a) | E23: NOTIFICADOR | F23: NOTIFICADOR | G23: NOTIFICADOR | H23: SUBRECAUDACION | I23: RICARDO MANUEL | J23: GARCIA | K23: TORRES | L23: Masculino | M23: 9502.48 | N23: MONEDA NACIONAL | O23: 8001.63 | P23: MONEDA NACIONAL | Q23: 16 | R23: 16 | S23: 16 | T23: 16 | U23: 16 | V23: 16 | W23: 16 | X23: 16 | Y23: 16 | Z23: 16 | AA23: 16 | AB23: 16 | AC23: 16 | AD23: PRODEUR | AE23: 45023 | AF23: 45023 | AG23: NO
A24: 2023 | B24: 44927 | C24: 45016 | D24: Servidor(a) público(a) | E24: NOTIFICADOR | F24: NOTIFICADOR | G24: NOTIFICADOR | H24: SUBRECAUDACION | I24: JORGE EDUARDO | J24: GARCIA | K24: NUÑO | L24: Masculino | M24: 9502.48 | N24: MONEDA NACIONAL | O24: 8001.63 | P24: MONEDA NACIONAL | Q24: 17 | R24: 17 | S24: 17 | T24: 17 | U24: 17 | V24: 17 | W24: 17 | X24: 17 | Y24: 17 | Z24: 17 | AA24: 17 | AB24: 17 | AC24: 17 | AD24: PRODEUR | AE24: 45023 | AF24: 45023 | AG24: NO
A25: 2023 | B25: 44927 | C25: 45016 | D25: Servidor(a) público(a) | E25: NOTIFICADOR | F25: NOTIFICADOR | G25: NOTIFICADOR | H25: SUBRECAUDACION | I25: KARLA JUDITH | J25: PEREZ | K25: MARTINEZ | L25: Femenino | M25: 9502.48 | N25: MONEDA NACIONAL | O25: 8001.63 | P25: MONEDA NACIONAL | Q25: 18 | R25: 18 | S25: 18 | T25: 18 | U25: 18 | V25: 18 | W25: 18 | X25: 18 | Y25: 18 | Z25: 18 | AA25: 18 | AB25: 18 | AC25: 18 | AD25: PRODEUR | AE25: 45023 | AF25: 45023 | AG25: NO
A26: 2023 | B26: 44927 | C26: 45016 | D26: Servidor(a) público(a) | E26: CAJERO | F26: CAJERO | G26: CAJERO | H26: SUBRECAUDACION | I26: SAMANTHA GUADALUPE | J26: GAMEZ | K26: ORTEGA | L26: Femenino | M26: 9502.48 | N26: MONEDA NACIONAL | O26: 8001.63 | P26: MONEDA NACIONAL | Q26: 19 | R26: 19 | S26: 19 | T26: 19 | U26: 19 | V26: 19 | W26: 19 | X26: 19 | Y26: 19 | Z26: 19 | AA26: 19 | AB26: 19 | AC26: 19 | AD26: PRODEUR | AE26: 45023 | AF26: 45023 | AG26: NO
A27: 2023 | B27: 44927 | C27: 45016 | D27: Servidor(a) público(a) | E27: INTENDENCIA | F27: INTENDENCIA | G27: INTENDENCIA | H27: RECURSOS HUMANOS Y MATERIALES | I27: SAUL ADRIAN | J27: MENDEZ | K27: GARCIA | L27: Masculino | M27: 9502.48 | N27: MONEDA NACIONAL | O27: 8001.63 | P27: MONEDA NACIONAL | Q27: 20 | R27: 20 | S27: 20 | T27: 20 | U27: 20 | V27: 20 | W27: 20 | X27: 20 | Y27: 20 | Z27: 20 | AA27: 20 | AB27: 20 | AC27: 20 | AD27: PRODEUR | AE27: 45023 | AF27: 45023 | AG27: NO
A28: 2023 | B28: 44927 | C28: 45016 | D28: Servidor(a) público(a) | E28: SUPERVISOR DE OBRAS | F28: SUPERVISOR DE OBRAS | G28: SUPERVISOR DE OBRAS | H28: SUPERVISION Y CONTROL DE OBRA | I28: BRANDON GABRIEL | J28: RAMIREZ | K28: GARCIA | L28: Masculino | M28: 15000 | N28: MONEDA NACIONAL | O28: 12106 | P28: MONEDA NACIONAL | Q28: 21 | R28: 21 | S28: 21 | T28: 21 | U28: 21 | V28: 21 | W28: 21 | X28: 21 | Y28: 21 | Z28: 21 | AA28: 21 | AB28: 21 | AC28: 21 | AD28: PRODEUR | AE28: 45023 | AF28: 45023 | AG28: NO
A29: 2023 | B29: 44927 | C29: 45016 | D29: Servidor(a) público(a) | E29: SUPERVISOR DE OBRAS | F29: SUPERVISOR DE OBRAS | G29: SUPERVISOR DE OBRAS | H29: SUPERVISION Y CONTROL DE OBRA | I29: ANDRES | J29: ZUÑIGA | K29: GAMEZ | L29: Masculino | M29: 15000 | N29: MONEDA NACIONAL | O29: 12106 | P29: MONEDA NACIONAL | Q29: 22 | R29: 22 | S29: 22 | T29: 22 | U29: 22 | V29: 22 | W29: 22 | X29: 22 | Y29: 22 | Z29: 22 | AA29: 22 | AB29: 22 | AC29: 22 | AD29: PRODEUR | AE29: 45023 | AF29: 45023 | AG29: NO

Sheet Hidden_1
A1: Funcionario
A2: Servidor(a) público(a)
A3: Servidor[a] público[a] eventual
A4: Integrante
A5: Empleado
A6: Representante popular
A7: Miembro del poder judicial
A8: Miembro de órgano autónomo
A9: Personal de confianza
A10: Prestador de servicios profesionales
A11: Otro

Sheet Hidden_2
A1: Femenino
A2: Masculino

Sheet Tabla_380000
B1: 2 | C1: 6 | D1: 6 | E1: 1 | F1: 1
B2: 49257 | C2: 49258 | D2: 49259 | E2: 49260 | F2: 49261
A3: ID | B3: Denominación de las percepciones adicionales en dinero | C3: Monto bruto de las percepciones adicionales en dinero | D3: Monto neto de las percepciones adicionales en dinero | E3: Tipo de moneda de las percepciones adicionales en dinero | F3: Periodicidad de las percepciones adicionales en dinero
A4: 1 | B4: N/A | C4: 0 | D4: 0 | E4: N/A | F4: N/A
A5: 2 | B5: N/A | C5: 0 | D5: 0 | E5: N/A | F5: N/A
A6: 3 | B6: N/A | C6: 0 | D6: 0 | E6: N/A | F6: N/A
A7: 4 | B7: N/A | C7: 0 | D7: 0 | E7: N/A | F7: N/A
A8: 5 | B8: N/A | C8: 0 | D8: 0 | E8: N/A | F8: N/A
A9: 6 | B9: N/A | C9: 0 | D9: 0 | E9: N/A | F9: N/A
A10: 7 | B10: N/A | C10: 0 | D10: 0 | E10: N/A | F10: N/A
A11: 8 | B11: N/A | C11: 0 | D11: 0 | E11: N/A | F11: N/A
A12: 9 | B12: N/A | C12: 0 | D12: 0 | E12: N/A | F12: N/A
A13: 10 | B13: N/A | C13: 0 | D13: 0 | E13: N/A | F13: N/A
A14: 11 | B14: N/A | C14: 0 | D14: 0 | E14: N/A | F14: N/A
A15: 12 | B15: N/A | C15: 0 | D15: 0 | E15: N/A | F15: N/A
... A25: 22 | B25: N/A | C25: 0 | D25: 0 | E25: N/A | F25: N/A

Sheet Tabla_379987
B1: 2 | C1: 1
B2: 49235 | C2: 49236
A3: ID | B3: Descripción de las percepciones adicionales en especie | C3: Periodicidad de las percepciones adicionales en especie
A4: 1 | B4: N/A | C4: N/A
A5: 2 | B5: N/A | C5: N/A
A6: 3 | B6: N/A | C6: N/A
A7: 4 | B7: N/A | C7: N/A
A8: 5 | B8: N/A | C8: N/A
A9: 6 | B9: N/A | C9: N/A
A10: 7 | B10: N/A | C10: N/A
A11: 8 | B11: N/A | C11: N/A
A12: 9 | B12: N/A | C12: N/A
A13: 10 | B13: N/A | C13: N/A
A14: 11 | B14: N/A | C14: N/A
A15: 12 | B15: N/A | C15: N/A
... A25: 22 | B25: N/A | C25: N/A

Sheet Tabla_380001
B1: 2 | C1: 6 | D1: 6 | E1: 1 | F1: 1
B2: 49264 | C2: 49265 | D2: 49266 | E2: 49262 | F2: 49263
A3: ID | B3: Denominación de los ingresos | C3: Monto bruto de los ingresos | D3: Monto neto de los ingresos | E3: Tipo de moneda de los ingresos | F3: Periodicidad de los ingresos
A4: 1 | B4: SUELDO | C4: 35000 | D4: 23130 | E4: PESOS MEXICANOS | F4: CATORCENAL
A5: 2 | B5: SUELDO | C5: 23000 | D5: 17765 | E5: PESOS MEXICANOS | F5: CATORCENAL
A6: 3 | B6: SUELDO | C6: 23000 | D6: 17765 | E6: PESOS MEXICANOS | F6: CATORCENAL
A7: 4 | B7: SUELDO | C7: 17000 | D7: 13753.55 | E7: PESOS MEXICANOS | F7: CATORCENAL
A8: 5 | B8: SUELDO | C8: 17000 | D8: 13753.55 | E8: PESOS MEXICANOS | F8: CATORCENAL
A9: 6 | B9: SUELDO | C9: 17000 | D9: 13753.55 | E9: PESOS MEXICANOS | F9: CATORCENAL
A10: 7 | B10: SUELDO | C10: 12000 | D10: 9898 | E10: PESOS MEXICANOS | F10: CATORCENAL
A11: 8 | B11: SUELDO | C11: 12000 | D11: 9898 | E11: PESOS MEXICANOS | F11: CATORCENAL
A12: 9 | B12: SUELDO | C12: 9502.48 | D12: 7170 | E12: PESOS MEXICANOS | F12: CATORCENAL
A13: 10 | B13: SUELDO | C13: 15000 | D13: 12106 | E13: PESOS MEXICANOS | F13: CATORCENAL
A14: 11 | B14: SUELDO | C14: 12000 | D14: 9898 | E14: PESOS MEXICANOS | F14: CATORCENAL
A15: 12 | B15: SUELDO | C15: 10500 | D15: 8757 | E15: PESOS MEXICANOS | F15: CATORCENAL
... A25: 22 | B25: SUELDO | C25: 15000 | D25: 12106 | E25: PESOS MEXICANOS | F25: CATORCENAL

Sheet Tabla_379971
B1: 1 | C1: 6 | D1: 6 | E1: 1 | F1: 1
B2: 49215 | C2: 49216 | D2: 49217 | E2: 49218 | F2: 49219
A3: ID | B3: Denominación de los sistemas de compensación | C3: Monto bruto de los sistemas de compensación | D3: Monto neto de los sistemas de compensación | E3: Tipo de moneda de los sistemas de compensación | F3: Periodicidad de los sistemas de compensación
A4: 1 | B4: COMPENSACION | C4: 0 | D4: 0 | E4: PESOS MEXICANOS | F4: CATORCENAL
A5: 2 | B5: COMPENSACION | C5: 0 | D5: 0 | E5: PESOS MEXICANOS | F5: CATORCENAL
A6: 3 | B6: COMPENSACION | C6: 0 | D6: 0 | E6: PESOS MEXICANOS | F6: CATORCENAL
A7: 4 | B7: COMPENSACION | C7: 0 | D7: 0 | E7: PESOS MEXICANOS | F7: CATORCENAL
A8: 5 | B8: COMPENSACION | C8: 0 | D8: 0 | E8: PESOS MEXICANOS | F8: CATORCENAL
A9: 6 | B9: COMPENSACION | C9: 0 | D9: 0 | E9: PESOS MEXICANOS | F9: CATORCENAL
A10: 7 | B10: COMPENSACION | C10: 0 | D10: 0 | E10: PESOS MEXICANOS | F10: CATORCENAL
A11: 8 | B11: COMPENSACION | C11: 0 | D11: 0 | E11: PESOS MEXICANOS | F11: CATORCENAL
A12: 9 | B12: COMPENSACION | C12: 0 | D12: 0 | E12: PESOS MEXICANOS | F12: CATORCENAL
A13: 10 | B13: COMPENSACION | C13: 0 | D13: 0 | E13: PESOS MEXICANOS | F13: CATORCENAL
A14: 11 | B14: COMPENSACION | C14: 0 | D14: 0 | E14: PESOS MEXICANOS | F14: CATORCENAL
A15: 12 | B15: COMPENSACION | C15: 0 | D15: 0 | E15: PESOS MEXICANOS | F15: CATORCENAL
... A25: 22 | B25: COMPENSACION | C25: 0 | D25: 0 | E25: PESOS MEXICANOS | F25: CATORCENAL

Sheet Tabla_379991
B1: 1 | C1: 6 | D1: 6 | E1: 1 | F1: 1
B2: 49242 | C2: 49243 | D2: 49244 | E2: 49245 | F2: 49246
A3: ID | B3: Denominación de las gratificaciones | C3: Monto bruto de las gratificaciones | D3: Monto neto de las gratificaciones | E3: Tipo de moneda de las gratificaciones | F3: Periodicidad de las gratificaciones
A4: 1 | B4: AGUINALDO | C4: 0 | D4: 0 | E4: MONEDA NACIONAL | F4: ANUAL
A5: 2 | B5: AGUINALDO | C5: 0 | D5: 0 | E5: MONEDA NACIONAL | F5: ANUAL
A6: 3 | B6: AGUINALDO | C6: 0 | D6: 0 | E6: MONEDA NACIONAL | F6: ANUAL
A7: 4 | B7: AGUINALDO | C7: 0 | D7: 0 | E7: MONEDA NACIONAL | F7: ANUAL
A8: 5 | B8: AGUINALDO | C8: 0 | D8: 0 | E8: MONEDA NACIONAL | F8: ANUAL
A9: 6 | B9: AGUINALDO | C9: 0 | D9: 0 | E9: MONEDA NACIONAL | F9: ANUAL
A10: 7 | B10: AGUINALDO | C10: 0 | D10: 0 | E10: MONEDA NACIONAL | F10: ANUAL
A11: 8 | B11: AGUINALDO | C11: 0 | D11: 0 | E11: MONEDA NACIONAL | F11: ANUAL
A12: 9 | B12: AGUINALDO | C12: 0 | D12: 0 | E12: MONEDA NACIONAL | F12: ANUAL
A13: 10 | B13: AGUINALDO | C13: 0 | D13: 0 | E13: MONEDA NACIONAL | F13: ANUAL
A14: 11 | B14: AGUINALDO | C14: 0 | D14: 0 | E14: MONEDA NACIONAL | F14: ANUAL
A15: 12 | B15: AGUINALDO | C15: 0 | D15: 0 | E15: MONEDA NACIONAL | F15: ANUAL
... A25: 22 | B25: AGUINALDO | C25: 0 | D25: 0 | E25: MONEDA NACIONAL | F25: ANUAL

Sheet Tabla_379978
B1: 1 | C1: 6 | D1: 6 | E1: 1 | F1: 1
B2: 49220 | C2: 49221 | D2: 49222 | E2: 49223 | F2: 49224
A3: ID | B3: Denominación de las primas | C3: Monto bruto de las primas | D3: Monto neto de las primas | E3: Tipo de moneda de las primas | F3: Periodicidad de las primas
A4: 1 | B4: PRIMA VACACIONAL | C4: 0 | D4: 0 | E4: MONEDA NACIONAL | F4: ANUAL
A5: 2 | B5: PRIMA VACACIONAL | C5: 0 | D5: 0 | E5: MONEDA NACIONAL | F5: ANUAL
A6: 3 | B6: PRIMA VACACIONAL | C6: 0 | D6: 0 | E6: MONEDA NACIONAL | F6: ANUAL
A7: 4 | B7: PRIMA VACACIONAL | C7: 0 | D7: 0 | E7: MONEDA NACIONAL | F7: ANUAL
A8: 5 | B8: PRIMA VACACIONAL | C8: 0 | D8: 0 | E8: MONEDA NACIONAL | F8: ANUAL
A9: 6 | B9: PRIMA VACACIONAL | C9: 0 | D9: 0 | E9: MONEDA NACIONAL | F9: ANUAL
A10: 7 | B10: PRIMA VACACIONAL | C10: 0 | D10: 0 | E10: MONEDA NACIONAL | F10: ANUAL
A11: 8 | B11: PRIMA VACACIONAL | C11: 0 | D11: 0 | E11: MONEDA NACIONAL | F11: ANUAL
A12: 9 | B12: PRIMA VACACIONAL | C12: 0 | D12: 0 | E12: MONEDA NACIONAL | F12: ANUAL
A13: 10 | B13: PRIMA VACACIONAL | C13: 0 | D13: 0 | E13: MONEDA NACIONAL | F13: ANUAL
A14: 11 | B14: PRIMA VACACIONAL | C14: 0 | D14: 0 | E14: MONEDA NACIONAL | F14: ANUAL
A15: 12 | B15: PRIMA VACACIONAL | C15: 0 | D15: 0 | E15: MONEDA NACIONAL | F15: ANUAL
... A25: 22 | B25: PRIMA VACACIONAL | C25: 0 | D25: 0 | E25: MONEDA NACIONAL | F25: ANUAL

Sheet Tabla_379988
B1: 1 | C1: 6 | D1: 6 | E1: 1 | F1: 1
B2: 49237 | C2: 49238 | D2: 49239 | E2: 49240 | F2: 49241
A3: ID | B3: Denominación de las comisiones | C3: Monto bruto de las comisiones | D3: Monto neto de las comisiones | E3: Tipo de moneda de las comisiones | F3: Periodicidad de las comisiones
A4: 1 | B4: N/A | C4: 0 | D4: 0 | E4: N/A | F4: N/A
A5: 2 | B5: N/A | C5: 0 | D5: 0 | E5: N/A | F5: N/A
A6: 3 | B6: N/A | C6: 0 | D6: 0 | E6: N/A | F6: N/A
A7: 4 | B7: N/A | C7: 0 | D7: 0 | E7: N/A | F7: N/A
A8: 5 | B8: N/A | C8: 0 | D8: 0 | E8: N/A | F8: N/A
A9: 6 | B9: N/A | C9: 0 | D9: 0 | E9: N/A | F9: N/A
A10: 7 | B10: N/A | C10: 0 | D10: 0 | E10: N/A | F10: N/A
A11: 8 | B11: N/A | C11: 0 | D11: 0 | E11: N/A | F11: N/A
A12: 9 | B12: N/A | C12: 0 | D12: 0 | E12: N/A | F12: N/A
A13: 10 | B13: N/A | C13: 0 | D13: 0 | E13: N/A | F13: N/A
A14: 11 | B14: N/A | C14: 0 | D14: 0 | E14: N/A | F14: N/A
A15: 12 | B15: N/A | C15: 0 | D15: 0 | E15: N/A | F15: N/A
... A25: 22 | B25: N/A | C25: 0 | D25: 0 | E25: N/A | F25: N/A

Sheet Tabla_379979
B1: 1 | C1: 6 | D1: 6 | E1: 1 | F1: 1
B2: 49225 | C2: 49226 | D2: 49227 | E2: 49228 | F2: 49229
A3: ID | B3: Denominación de las dietas | C3: Monto bruto de las dietas | D3: Monto neto de las dietas | E3: Tipo de moneda de las dietas | F3: Periodicidad de las dietas
A4: 1 | B4: N/A | C4: 0 | D4: 0 | E4: N/A | F4: N/A
A5: 2 | B5: N/A | C5: 0 | D5: 0 | E5: N/A | F5: N/A
A6: 3 | B6: N/A | C6: 0 | D6: 0 | E6: N/A | F6: N/A
A7: 4 | B7: N/A | C7: 0 | D7: 0 | E7: N/A | F7: N/A
A8: 5 | B8: N/A | C8: 0 | D8: 0 | E8: N/A | F8: N/A
A9: 6 | B9: N/A | C9: 0 | D9: 0 | E9: N/A | F9: N/A
A10: 7 | B10: N/A | C10: 0 | D10: 0 | E10: N/A | F10: N/A
A11: 8 | B11: N/A | C11: 0 | D11: 0 | E11: N/A | F11: N/A
A12: 9 | B12: N/A | C12: 0 | D12: 0 | E12: N/A | F12: N/A
A13: 10 | B13: N/A | C13: 0 | D13: 0 | E13: N/A | F13: N/A
A14: 11 | B14: N/A | C14: 0 | D14: 0 | E14: N/A | F14: N/A
A15: 12 | B15: N/A | C15: 0 | D15: 0 | E15: N/A | F15: N/A
... A25: 22 | B25: N/A | C25: 0 | D25: 0 | E25: N/A | F25: N/A

Sheet Tabla_379980
B1: 1 | C1: 6 | D1: 6 | E1: 1 | F1: 1
B2: 49230 | C2: 49231 | D2: 49232 | E2: 49233 | F2: 49234
A3: ID | B3: Denominación de los bonos | C3: Monto bruto de los bonos | D3: Monto neto de los bonos | E3: Tipo de moneda de los bonos | F3: Periodicidad de los bonos
A4: 1 | B4: N/A | C4: 0 | D4: 0 | E4: N/A | F4: N/A
A5: 2 | B5: N/A | C5: 0 | D5: 0 | E5: N/A | F5: N/A
A6: 3 | B6: N/A | C6: 0 | D6: 0 | E6: N/A | F6: N/A
A7: 4 | B7: N/A | C7: 0 | D7: 0 | E7: N/A | F7: N/A
A8: 5 | B8: N/A | C8: 0 | D8: 0 | E8: N/A | F8: N/A
A9: 6 | B9: N/A | C9: 0 | D9: 0 | E9: N/A | F9: N/A
A10: 7 | B10: N/A | C10: 0 | D10: 0 | E10: N/A | F10: N/A
A11: 8 | B11: N/A | C11: 0 | D11: 0 | E11: N/A | F11: N/A
A12: 9 | B12: N/A | C12: 0 | D12: 0 | E12: N/A | F12: N/A
A13: 10 | B13: N/A | C13: 0 | D13: 0 | E13: N/A | F13: N/A
A14: 11 | B14: N/A | C14: 0 | D14: 0 | E14: N/A | F14: N/A
A15: 12 | B15: N/A | C15: 0 | D15: 0 | E15: N/A | F15: N/A
... A25: 22 | B25: N/A | C25: 0 | D25: 0 | E25: N/A | F25: N/A

Sheet Tabla_379998
B1: 1 | C1: 6 | D1: 6 | E1: 1 | F1: 1
B2: 49247 | C2: 49248 | D2: 49249 | E2: 49250 | F2: 49251
A3: ID | B3: Denominación de los estímulos | C3: Monto bruto de los estímulos | D3: Monto neto de los estímulos | E3: Tipo de moneda de los estímulos | F3: Periodicidad de los estímulos
A4: 1 | B4: N/A | C4: 0 | D4: 0 | E4: N/A | F4: N/A
A5: 2 | B5: N/A | C5: 0 | D5: 0 | E5: N/A | F5: N/A
A6: 3 | B6: N/A | C6: 0 | D6: 0 | E6: N/A | F6: N/A
A7: 4 | B7: N/A | C7: 0 | D7: 0 | E7: N/A | F7: N/A
A8: 5 | B8: N/A | C8: 0 | D8: 0 | E8: N/A | F8: N/A
A9: 6 | B9: N/A | C9: 0 | D9: 0 | E9: N/A | F9: N/A
A10: 7 | B10: N/A | C10: 0 | D10: 0 | E10: N/A | F10: N/A
A11: 8 | B11: N/A | C11: 0 | D11: 0 | E11: N/A | F11: N/A
A12: 9 | B12: N/A | C12: 0 | D12: 0 | E12: N/A | F12: N/A
A13: 10 | B13: N/A | C13: 0 | D13: 0 | E13: N/A | F13: N/A
A14: 11 | B14: N/A | C14: 0 | D14: 0 | E14: N/A | F14: N/A
A15: 12 | B15: N/A | C15: 0 | D15: 0 | E15: N/A | F15: N/A
... A25: 22 | B25: N/A | C25: 0 | D25: 0 | E25: N/A | F25: N/A

Sheet Tabla_380002
B1: 1 | C1: 6 | D1: 6 | E1: 1 | F1: 1
B2: 49267 | C2: 49268 | D2: 49269 | E2: 49270 | F2: 49271
A3: ID | B3: Denominación de los apoyos económicos | C3: Monto bruto de los apoyos económicos | D3: Monto neto de los apoyos económicos | E3: Tipo de moneda de los apoyos económicos | F3: Periodicidad de los apoyos económicos
A4: 1 | B4: N/A | C4: 0 | D4: 0 | E4: N/A | F4: N/A
A5: 2 | B5: N/A | C5: 0 | D5: 0 | E5: N/A | F5: N/A
A6: 3 | B6: N/A | C6: 0 | D6: 0 | E6: N/A | F6: N/A
A7: 4 | B7: N/A | C7: 0 | D7: 0 | E7: N/A | F7: N/A
A8: 5 | B8: N/A | C8: 0 | D8: 0 | E8: N/A | F8: N/A
A9: 6 | B9: N/A | C9: 0 | D9: 0 | E9: N/A | F9: N/A
A10: 7 | B10: N/A | C10: 0 | D10: 0 | E10: N/A | F10: N/A
A11: 8 | B11: N/A | C11: 0 | D11: 0 | E11: N/A | F11: N/A
A12: 9 | B12: N/A | C12: 0 | D12: 0 | E12: N/A | F12: N/A
A13: 10 | B13: N/A | C13: 0 | D13: 0 | E13: N/A | F13: N/A
A14: 11 | B14: N/A | C14: 0 | D14: 0 | E14: N/A | F14: N/A
A15: 12 | B15: N/A | C15: 0 | D15: 0 | E15: N/A | F15: N/A
... A25: 22 | B25: N/A | C25: 0 | D25: 0 | E25: N/A | F25: N/A

Sheet Tabla_379999
B1: 1 | C1: 6 | D1: 6 | E1: 1 | F1: 1
B2: 49252 | C2: 49253 | D2: 49254 | E2: 49255 | F2: 49256
A3: ID | B3: Denominación de las prestaciones económicas | C3: Monto bruto de las prestaciones económicas | D3: Monto neto de las prestaciones económicas | E3: Tipo de moneda de las prestaciones económicas | F3: Periodicidad de las prestaciones económicas
A4: 1 | B4: N/A | C4: 0 | D4: 0 | E4: N/A | F4: N/A
A5: 2 | B5: N/A | C5: 0 | D5: 0 | E5: N/A | F5: N/A
A6: 3 | B6: N/A | C6: 0 | D6: 0 | E6: N/A | F6: N/A
A7: 4 | B7: N/A | C7: 0 | D7: 0 | E7: N/A | F7: N/A
A8: 5 | B8: N/A | C8: 0 | D8: 0 | E8: N/A | F8: N/A
A9: 6 | B9: N/A | C9: 0 | D9: 0 | E9: N/A | F9: N/A
A10: 7 | B10: N/A | C10: 0 | D10: 0 | E10: N/A | F10: N/A
A11: 8 | B11: N/A | C11: 0 | D11: 0 | E11: N/A | F11: N/A
A12: 9 | B12: N/A | C12: 0 | D12: 0 | E12: N/A | F12: N/A
A13: 10 | B13: N/A | C13: 0 | D13: 0 | E13: N/A | F13: N/A
A14: 11 | B14: N/A | C14: 0 | D14: 0 | E14: N/A | F14: N/A
A15: 12 | B15: N/A | C15: 0 | D15: 0 | E15: N/A | F15: N/A
... A25: 22 | B25: N/A | C25: 0 | D25: 0 | E25: N/A | F25: N/A

Sheet Tabla_380003
B1: 1 | C1: 1
B2: 49272 | C2: 49273
A3: ID | B3: Descripción de las prestaciones en especie | C3: Periodicidad de las prestaciones en especie
A4: 1 | B4: N/A | C4: N/A
A5: 2 | B5: N/A | C5: N/A
A6: 3 | B6: N/A | C6: N/A
A7: 4 | B7: N/A | C7: N/A
A8: 5 | B8: N/A | C8: N/A
A9: 6 | B9: N/A | C9: N/A
A10: 7 | B10: N/A | C10: N/A
A11: 8 | B11: N/A | C11: N/A
A12: 9 | B12: N/A | C12: N/A
A13: 10 | B13: N/A | C13: N/A
A14: 11 | B14: N/A | C14: N/A
A15: 12 | B15: N/A | C15: N/A
... A25: 22 | B25: N/A | C25: N/A
